BEGIN:VCALENDAR
VERSION:2.0
PRODID:icalendar-ruby
CALSCALE:GREGORIAN
METHOD:PUBLISH
BEGIN:VEVENT
DTSTAMP:20260423T034324Z
UID:511-944546@bridgewaterunited.tithelysetup5.com
DTSTART:20260610T230000Z
DTEND:20260611T000000Z
CLASS:PUBLIC
CREATED:20260421T112047
DESCRIPTION:For more information please contact Joan Kenney or Debbie Creec
 h\, our District Administrator
LAST-MODIFIED:20260421T112047
LOCATION:Zoom
SUMMARY:Group Charge Conference by Zoom
URL;VALUE=URI:https://bridgewaterumc.com/events/group-charge-conference-by-
 zoom/2026-06-10
ATTACH;FILENAME=District-Office-Logo.jpg;FMTTYPE=image/jpeg:https://dq5pwpg
 1q8ru0.cloudfront.net/2026/04/21/15/20/24/20c4e3c4-1936-49ee-8eac-ae18d801
 d190/District-Office-Logo.jpg
END:VEVENT
END:VCALENDAR
