BEGIN:VCALENDAR
VERSION:2.0
PRODID:icalendar-ruby
CALSCALE:GREGORIAN
METHOD:PUBLISH
BEGIN:VEVENT
DTSTAMP:20260423T034127Z
UID:500-945275@bridgewaterunited.tithelysetup5.com
DTSTART;VALUE=DATE:20260524
DTEND;VALUE=DATE:20260524
CLASS:PUBLIC
CREATED:20260421T150426
DESCRIPTION:For further information please contact Kathi Hemmis
LAST-MODIFIED:20260421T150426
LOCATION:
SUMMARY:Hygiene Kits for Conference Due
URL;VALUE=URI:https://bridgewaterumc.com/events/hygiene-kits-for-conference
 -due/2026-05-24
ATTACH;FILENAME=hygiene_19013c-%282%29.jpg;FMTTYPE=image/jpeg:https://dq5pw
 pg1q8ru0.cloudfront.net/2026/03/10/16/39/28/0becc8a0-5091-4480-a721-9f5dac
 06e112/hygiene_19013c-%25282%2529.jpg
END:VEVENT
END:VCALENDAR
