BEGIN:VCALENDAR
VERSION:2.0
PRODID:icalendar-ruby
CALSCALE:GREGORIAN
METHOD:PUBLISH
BEGIN:VEVENT
DTSTAMP:20260425T235027Z
UID:513-953277@bridgewaterunited.tithelysetup5.com
DTSTART:20260506T220000Z
DTEND:20260506T230000Z
CLASS:PUBLIC
CREATED:20260423T120430
DESCRIPTION:For further  information please contact Joan Kenney.
LAST-MODIFIED:20260423T120430
LOCATION:Library
SUMMARY:SPRC Meeting
URL;VALUE=URI:https://bridgewaterumc.com/events/sprc-meeting--513/2026-05-0
 6
ATTACH;FILENAME=SPRC-Staff-Parish.png;FMTTYPE=image/png:https://dq5pwpg1q8r
 u0.cloudfront.net/2026/04/23/16/04/29/7e0bfe66-93be-407b-b930-718f58ac677f
 /SPRC-Staff-Parish.png
END:VEVENT
END:VCALENDAR
