BEGIN:VCALENDAR
VERSION:2.0
PRODID:icalendar-ruby
CALSCALE:GREGORIAN
METHOD:PUBLISH
BEGIN:VEVENT
DTSTAMP:20260423T034847Z
UID:512-944547@bridgewaterunited.tithelysetup5.com
DTSTART:20260519T150000Z
DTEND:20260519T163000Z
CLASS:PUBLIC
CREATED:20260421T124043
DESCRIPTION:For further information please contact Carolyn Van Dyck
LAST-MODIFIED:20260421T124043
LOCATION:Fellowship Hall
SUMMARY:UWF Circle of Hope Meeting
URL;VALUE=URI:https://bridgewaterumc.com/events/uwf-circle-of-hope-meeting/
 2026-05-19
ATTACH;FILENAME=uwf.png;FMTTYPE=image/png:https://dq5pwpg1q8ru0.cloudfront.
 net/2026/04/21/16/40/42/b5f71f49-a605-4b9a-ac49-f6892780dac8/uwf.png
END:VEVENT
END:VCALENDAR
